BEGIN:VCALENDAR
VERSION:2.0
PRODID:-//St. Patrick Parish, Fallowfield - ECPv6.15.20//NONSGML v1.0//EN
CALSCALE:GREGORIAN
METHOD:PUBLISH
X-ORIGINAL-URL:https://stpatricksfallowfield.com
X-WR-CALDESC:Events for St. Patrick Parish, Fallowfield
REFRESH-INTERVAL;VALUE=DURATION:PT1H
X-Robots-Tag:noindex
X-PUBLISHED-TTL:PT1H
BEGIN:VTIMEZONE
TZID:America/Toronto
BEGIN:DAYLIGHT
TZOFFSETFROM:-0500
TZOFFSETTO:-0400
TZNAME:EDT
DTSTART:20250309T070000
END:DAYLIGHT
BEGIN:STANDARD
TZOFFSETFROM:-0400
TZOFFSETTO:-0500
TZNAME:EST
DTSTART:20251102T060000
END:STANDARD
BEGIN:DAYLIGHT
TZOFFSETFROM:-0500
TZOFFSETTO:-0400
TZNAME:EDT
DTSTART:20260308T070000
END:DAYLIGHT
BEGIN:STANDARD
TZOFFSETFROM:-0400
TZOFFSETTO:-0500
TZNAME:EST
DTSTART:20261101T060000
END:STANDARD
BEGIN:DAYLIGHT
TZOFFSETFROM:-0500
TZOFFSETTO:-0400
TZNAME:EDT
DTSTART:20270314T070000
END:DAYLIGHT
BEGIN:STANDARD
TZOFFSETFROM:-0400
TZOFFSETTO:-0500
TZNAME:EST
DTSTART:20271107T060000
END:STANDARD
END:VTIMEZONE
BEGIN:VEVENT
DTSTART;TZID=America/Toronto:20260424T090000
DTEND;TZID=America/Toronto:20260424T093000
DTSTAMP:20260424T102450
CREATED:20241003T151729Z
LAST-MODIFIED:20260325T184439Z
UID:10001926-1777021200-1777023000@stpatricksfallowfield.com
SUMMARY:9 a.m. Mass
DESCRIPTION:Join us for Mass on Fridays at 9 a.m.
URL:https://stpatricksfallowfield.com/event/mass-friday/2026-04-24/
LOCATION:St. Patrick Parish\, Fallowfield\, Steeple Hill Crescent 15\, Ottawa\, Ontario\, K2R 1G2\, Canada
CATEGORIES:Liturgical
ORGANIZER;CN="St. Patrick Parish%2C Fallowfield":MAILTO:office@stpatricksfallowfield.com
GEO:45.2678443;-75.827843
X-APPLE-STRUCTURED-LOCATION;VALUE=URI;X-ADDRESS=St. Patrick Parish Fallowfield Steeple Hill Crescent 15 Ottawa Ontario K2R 1G2 Canada;X-APPLE-RADIUS=500;X-TITLE=Steeple Hill Crescent 15:geo:-75.827843,45.2678443
END:VEVENT
BEGIN:VEVENT
DTSTART;TZID=America/Toronto:20260425T090000
DTEND;TZID=America/Toronto:20260425T120000
DTSTAMP:20260424T102450
CREATED:20260403T231513Z
LAST-MODIFIED:20260403T231513Z
UID:10004169-1777107600-1777118400@stpatricksfallowfield.com
SUMMARY:Sacrament of Confirmation Preparation Retreat
DESCRIPTION:The 2026 Confirmation Preparation Retreat will be held in the Parish Hall from 9:00 a.m. to 12 p.m. for registered children. \nPlease note that this retreat is mandatory. If your child does not attend\, they will not be able to receive the sacrament.
URL:https://stpatricksfallowfield.com/event/sacrament-of-confirmation-preparation-retreat/
LOCATION:St. Patrick Parish\, Fallowfield\, Steeple Hill Crescent 15\, Ottawa\, Ontario\, K2R 1G2\, Canada
CATEGORIES:Sacramental
ATTACH;FMTTYPE=image/png:https://stpatricksfallowfield.com/wp-content/uploads/2026/04/confirmation-preparation-retreat-2026.png
GEO:45.2678443;-75.827843
X-APPLE-STRUCTURED-LOCATION;VALUE=URI;X-ADDRESS=St. Patrick Parish Fallowfield Steeple Hill Crescent 15 Ottawa Ontario K2R 1G2 Canada;X-APPLE-RADIUS=500;X-TITLE=Steeple Hill Crescent 15:geo:-75.827843,45.2678443
END:VEVENT
BEGIN:VEVENT
DTSTART;TZID=America/Toronto:20260425T160000
DTEND;TZID=America/Toronto:20260425T170000
DTSTAMP:20260424T102450
CREATED:20241003T151833Z
LAST-MODIFIED:20250813T182107Z
UID:10002187-1777132800-1777136400@stpatricksfallowfield.com
SUMMARY:Reconciliation
DESCRIPTION:Reconciliation is offered Saturdays at 4 – 4:45 p.m. in the sacristy or by appointment.
URL:https://stpatricksfallowfield.com/event/reconciliation/2026-04-25/
LOCATION:St. Patrick Parish\, Fallowfield\, Steeple Hill Crescent 15\, Ottawa\, Ontario\, K2R 1G2\, Canada
CATEGORIES:Liturgical,Sacramental
ORGANIZER;CN="St. Patrick Parish%2C Fallowfield":MAILTO:office@stpatricksfallowfield.com
GEO:45.2678443;-75.827843
X-APPLE-STRUCTURED-LOCATION;VALUE=URI;X-ADDRESS=St. Patrick Parish Fallowfield Steeple Hill Crescent 15 Ottawa Ontario K2R 1G2 Canada;X-APPLE-RADIUS=500;X-TITLE=Steeple Hill Crescent 15:geo:-75.827843,45.2678443
END:VEVENT
BEGIN:VEVENT
DTSTART;TZID=America/Toronto:20260425T170000
DTEND;TZID=America/Toronto:20260425T180000
DTSTAMP:20260424T102450
CREATED:20241003T150402Z
LAST-MODIFIED:20241203T163324Z
UID:10000881-1777136400-1777140000@stpatricksfallowfield.com
SUMMARY:5 p.m. Mass
DESCRIPTION:Join us for Mass on Saturdays at 5 p.m. \nMusic is lead by Patrick Gillissie on guitar.
URL:https://stpatricksfallowfield.com/event/mass-saturday/2026-04-25/
LOCATION:St. Patrick Parish\, Fallowfield\, Steeple Hill Crescent 15\, Ottawa\, Ontario\, K2R 1G2\, Canada
CATEGORIES:Liturgical
ORGANIZER;CN="St. Patrick Parish%2C Fallowfield":MAILTO:office@stpatricksfallowfield.com
GEO:45.2678443;-75.827843
X-APPLE-STRUCTURED-LOCATION;VALUE=URI;X-ADDRESS=St. Patrick Parish Fallowfield Steeple Hill Crescent 15 Ottawa Ontario K2R 1G2 Canada;X-APPLE-RADIUS=500;X-TITLE=Steeple Hill Crescent 15:geo:-75.827843,45.2678443
END:VEVENT
BEGIN:VEVENT
DTSTART;TZID=America/Toronto:20260426T090000
DTEND;TZID=America/Toronto:20260426T100000
DTSTAMP:20260424T102450
CREATED:20260325T183340Z
LAST-MODIFIED:20260325T183507Z
UID:10003832-1777194000-1777197600@stpatricksfallowfield.com
SUMMARY:9 a.m. Mass
DESCRIPTION:Join us for Mass on Sundays at 9 a.m.\, featuring a musical ensemble and soloist.
URL:https://stpatricksfallowfield.com/event/mass-sunday-9am/2026-04-26/
LOCATION:St. Patrick Parish\, Fallowfield\, Steeple Hill Crescent 15\, Ottawa\, Ontario\, K2R 1G2\, Canada
CATEGORIES:Liturgical
ORGANIZER;CN="St. Patrick Parish%2C Fallowfield":MAILTO:office@stpatricksfallowfield.com
GEO:45.2678443;-75.827843
X-APPLE-STRUCTURED-LOCATION;VALUE=URI;X-ADDRESS=St. Patrick Parish Fallowfield Steeple Hill Crescent 15 Ottawa Ontario K2R 1G2 Canada;X-APPLE-RADIUS=500;X-TITLE=Steeple Hill Crescent 15:geo:-75.827843,45.2678443
END:VEVENT
BEGIN:VEVENT
DTSTART;TZID=America/Toronto:20260426T110000
DTEND;TZID=America/Toronto:20260426T120000
DTSTAMP:20260424T102450
CREATED:20260325T184048Z
LAST-MODIFIED:20260325T184143Z
UID:10000359-1777201200-1777204800@stpatricksfallowfield.com
SUMMARY:11 a.m. Mass
DESCRIPTION:Join us for Mass on Sundays at 11 a.m.\, featuring the full St. Patricks Parish Choir.
URL:https://stpatricksfallowfield.com/event/mass-sunday-11/2026-04-26/
LOCATION:St. Patrick Parish\, Fallowfield\, Steeple Hill Crescent 15\, Ottawa\, Ontario\, K2R 1G2\, Canada
CATEGORIES:Liturgical
ORGANIZER;CN="St. Patrick Parish%2C Fallowfield":MAILTO:office@stpatricksfallowfield.com
GEO:45.2678443;-75.827843
X-APPLE-STRUCTURED-LOCATION;VALUE=URI;X-ADDRESS=St. Patrick Parish Fallowfield Steeple Hill Crescent 15 Ottawa Ontario K2R 1G2 Canada;X-APPLE-RADIUS=500;X-TITLE=Steeple Hill Crescent 15:geo:-75.827843,45.2678443
END:VEVENT
BEGIN:VEVENT
DTSTART;TZID=America/Toronto:20260428T083000
DTEND;TZID=America/Toronto:20260428T090000
DTSTAMP:20260424T102450
CREATED:20260211T200802Z
LAST-MODIFIED:20260211T200802Z
UID:10003005-1777365000-1777366800@stpatricksfallowfield.com
SUMMARY:Morning Rosary Devotion
DESCRIPTION:Join members of the Legion of Mary as they pray the Rosary each Tuesday\, Wednesday\, and Thursday morning at 8:30 a.m. in the church\, just before the 9:00 a.m. Mass. All parishioners are welcome to participate.
URL:https://stpatricksfallowfield.com/event/morning-rosary-devotion/2026-04-28/
LOCATION:St. Patrick Parish\, Fallowfield\, Steeple Hill Crescent 15\, Ottawa\, Ontario\, K2R 1G2\, Canada
CATEGORIES:Formation
ATTACH;FMTTYPE=image/png:https://stpatricksfallowfield.com/wp-content/uploads/2026/02/legion-of-mary-lead-morning-rosary-in-the-church.png
GEO:45.2678443;-75.827843
X-APPLE-STRUCTURED-LOCATION;VALUE=URI;X-ADDRESS=St. Patrick Parish Fallowfield Steeple Hill Crescent 15 Ottawa Ontario K2R 1G2 Canada;X-APPLE-RADIUS=500;X-TITLE=Steeple Hill Crescent 15:geo:-75.827843,45.2678443
END:VEVENT
BEGIN:VEVENT
DTSTART;TZID=America/Toronto:20260428T090000
DTEND;TZID=America/Toronto:20260428T093000
DTSTAMP:20260424T102450
CREATED:20241003T151234Z
LAST-MODIFIED:20260325T184245Z
UID:10001143-1777366800-1777368600@stpatricksfallowfield.com
SUMMARY:9 a.m. Mass
DESCRIPTION:Join us for Mass on Tuesdays at 9 a.m.
URL:https://stpatricksfallowfield.com/event/mass-tuesday/2026-04-28/
LOCATION:St. Patrick Parish\, Fallowfield\, Steeple Hill Crescent 15\, Ottawa\, Ontario\, K2R 1G2\, Canada
CATEGORIES:Liturgical
ORGANIZER;CN="St. Patrick Parish%2C Fallowfield":MAILTO:office@stpatricksfallowfield.com
GEO:45.2678443;-75.827843
X-APPLE-STRUCTURED-LOCATION;VALUE=URI;X-ADDRESS=St. Patrick Parish Fallowfield Steeple Hill Crescent 15 Ottawa Ontario K2R 1G2 Canada;X-APPLE-RADIUS=500;X-TITLE=Steeple Hill Crescent 15:geo:-75.827843,45.2678443
END:VEVENT
BEGIN:VEVENT
DTSTART;TZID=America/Toronto:20260429T083000
DTEND;TZID=America/Toronto:20260429T090000
DTSTAMP:20260424T102450
CREATED:20260211T200802Z
LAST-MODIFIED:20260211T200802Z
UID:10003006-1777451400-1777453200@stpatricksfallowfield.com
SUMMARY:Morning Rosary Devotion
DESCRIPTION:Join members of the Legion of Mary as they pray the Rosary each Tuesday\, Wednesday\, and Thursday morning at 8:30 a.m. in the church\, just before the 9:00 a.m. Mass. All parishioners are welcome to participate.
URL:https://stpatricksfallowfield.com/event/morning-rosary-devotion/2026-04-29/
LOCATION:St. Patrick Parish\, Fallowfield\, Steeple Hill Crescent 15\, Ottawa\, Ontario\, K2R 1G2\, Canada
CATEGORIES:Formation
ATTACH;FMTTYPE=image/png:https://stpatricksfallowfield.com/wp-content/uploads/2026/02/legion-of-mary-lead-morning-rosary-in-the-church.png
GEO:45.2678443;-75.827843
X-APPLE-STRUCTURED-LOCATION;VALUE=URI;X-ADDRESS=St. Patrick Parish Fallowfield Steeple Hill Crescent 15 Ottawa Ontario K2R 1G2 Canada;X-APPLE-RADIUS=500;X-TITLE=Steeple Hill Crescent 15:geo:-75.827843,45.2678443
END:VEVENT
BEGIN:VEVENT
DTSTART;TZID=America/Toronto:20260429T090000
DTEND;TZID=America/Toronto:20260429T093000
DTSTAMP:20260424T102450
CREATED:20241003T151524Z
LAST-MODIFIED:20260325T184335Z
UID:10001404-1777453200-1777455000@stpatricksfallowfield.com
SUMMARY:9 a.m. Mass
DESCRIPTION:Join us for Mass on Wednesdays at 9 a.m.
URL:https://stpatricksfallowfield.com/event/mass-wednesday/2026-04-29/
LOCATION:St. Patrick Parish\, Fallowfield\, Steeple Hill Crescent 15\, Ottawa\, Ontario\, K2R 1G2\, Canada
CATEGORIES:Liturgical
ORGANIZER;CN="St. Patrick Parish%2C Fallowfield":MAILTO:office@stpatricksfallowfield.com
GEO:45.2678443;-75.827843
X-APPLE-STRUCTURED-LOCATION;VALUE=URI;X-ADDRESS=St. Patrick Parish Fallowfield Steeple Hill Crescent 15 Ottawa Ontario K2R 1G2 Canada;X-APPLE-RADIUS=500;X-TITLE=Steeple Hill Crescent 15:geo:-75.827843,45.2678443
END:VEVENT
BEGIN:VEVENT
DTSTART;TZID=America/Toronto:20260430T083000
DTEND;TZID=America/Toronto:20260430T090000
DTSTAMP:20260424T102450
CREATED:20260211T200802Z
LAST-MODIFIED:20260211T200802Z
UID:10003007-1777537800-1777539600@stpatricksfallowfield.com
SUMMARY:Morning Rosary Devotion
DESCRIPTION:Join members of the Legion of Mary as they pray the Rosary each Tuesday\, Wednesday\, and Thursday morning at 8:30 a.m. in the church\, just before the 9:00 a.m. Mass. All parishioners are welcome to participate.
URL:https://stpatricksfallowfield.com/event/morning-rosary-devotion/2026-04-30/
LOCATION:St. Patrick Parish\, Fallowfield\, Steeple Hill Crescent 15\, Ottawa\, Ontario\, K2R 1G2\, Canada
CATEGORIES:Formation
ATTACH;FMTTYPE=image/png:https://stpatricksfallowfield.com/wp-content/uploads/2026/02/legion-of-mary-lead-morning-rosary-in-the-church.png
GEO:45.2678443;-75.827843
X-APPLE-STRUCTURED-LOCATION;VALUE=URI;X-ADDRESS=St. Patrick Parish Fallowfield Steeple Hill Crescent 15 Ottawa Ontario K2R 1G2 Canada;X-APPLE-RADIUS=500;X-TITLE=Steeple Hill Crescent 15:geo:-75.827843,45.2678443
END:VEVENT
BEGIN:VEVENT
DTSTART;TZID=America/Toronto:20260430T090000
DTEND;TZID=America/Toronto:20260430T093000
DTSTAMP:20260424T102450
CREATED:20241003T151636Z
LAST-MODIFIED:20260325T184357Z
UID:10001666-1777539600-1777541400@stpatricksfallowfield.com
SUMMARY:9 a.m. Mass
DESCRIPTION:Join us for Mass on Thursdays at 9 a.m.
URL:https://stpatricksfallowfield.com/event/mass-thursday/2026-04-30/
LOCATION:St. Patrick Parish\, Fallowfield\, Steeple Hill Crescent 15\, Ottawa\, Ontario\, K2R 1G2\, Canada
CATEGORIES:Liturgical
ORGANIZER;CN="St. Patrick Parish%2C Fallowfield":MAILTO:office@stpatricksfallowfield.com
GEO:45.2678443;-75.827843
X-APPLE-STRUCTURED-LOCATION;VALUE=URI;X-ADDRESS=St. Patrick Parish Fallowfield Steeple Hill Crescent 15 Ottawa Ontario K2R 1G2 Canada;X-APPLE-RADIUS=500;X-TITLE=Steeple Hill Crescent 15:geo:-75.827843,45.2678443
END:VEVENT
END:VCALENDAR